BEGIN:VCALENDAR
VERSION:2.0
PRODID:-//FEG Brass Band Sulgen - ECPv6.15.20//NONSGML v1.0//EN
CALSCALE:GREGORIAN
METHOD:PUBLISH
X-ORIGINAL-URL:https://www.fegbbs.ch
X-WR-CALDESC:Veranstaltungen für FEG Brass Band Sulgen
REFRESH-INTERVAL;VALUE=DURATION:PT1H
X-Robots-Tag:noindex
X-PUBLISHED-TTL:PT1H
BEGIN:VTIMEZONE
TZID:Europe/Zurich
BEGIN:DAYLIGHT
TZOFFSETFROM:+0100
TZOFFSETTO:+0200
TZNAME:CEST
DTSTART:20250330T010000
END:DAYLIGHT
BEGIN:STANDARD
TZOFFSETFROM:+0200
TZOFFSETTO:+0100
TZNAME:CET
DTSTART:20251026T010000
END:STANDARD
BEGIN:DAYLIGHT
TZOFFSETFROM:+0100
TZOFFSETTO:+0200
TZNAME:CEST
DTSTART:20260329T010000
END:DAYLIGHT
BEGIN:STANDARD
TZOFFSETFROM:+0200
TZOFFSETTO:+0100
TZNAME:CET
DTSTART:20261025T010000
END:STANDARD
BEGIN:DAYLIGHT
TZOFFSETFROM:+0100
TZOFFSETTO:+0200
TZNAME:CEST
DTSTART:20270328T010000
END:DAYLIGHT
BEGIN:STANDARD
TZOFFSETFROM:+0200
TZOFFSETTO:+0100
TZNAME:CET
DTSTART:20271031T010000
END:STANDARD
END:VTIMEZONE
BEGIN:VEVENT
DTSTART;TZID=Europe/Zurich:20260927T170000
DTEND;TZID=Europe/Zurich:20260927T180000
DTSTAMP:20260424T142328
CREATED:20240201T205248Z
LAST-MODIFIED:20251117T205219Z
UID:1725-1790528400-1790532000@www.fegbbs.ch
SUMMARY:Herbstkonzert
DESCRIPTION:
URL:https://www.fegbbs.ch/?tribe_events=herbstkonzert-4
LOCATION:evang. Kirche Sulgen\, Kirchstrasse 20a\, Sulgen\, 8583
END:VEVENT
END:VCALENDAR